BEGIN:VCALENDAR
VERSION:2.0
PRODID:-//B19MC - ECPv6.15.17.1//NONSGML v1.0//EN
CALSCALE:GREGORIAN
METHOD:PUBLISH
X-ORIGINAL-URL:https://borough19motorclub.org.uk
X-WR-CALDESC:Events for B19MC
REFRESH-INTERVAL;VALUE=DURATION:PT1H
X-Robots-Tag:noindex
X-PUBLISHED-TTL:PT1H
BEGIN:VTIMEZONE
TZID:Europe/London
BEGIN:DAYLIGHT
TZOFFSETFROM:+0000
TZOFFSETTO:+0100
TZNAME:BST
DTSTART:20220327T010000
END:DAYLIGHT
BEGIN:STANDARD
TZOFFSETFROM:+0100
TZOFFSETTO:+0000
TZNAME:GMT
DTSTART:20221030T010000
END:STANDARD
BEGIN:DAYLIGHT
TZOFFSETFROM:+0000
TZOFFSETTO:+0100
TZNAME:BST
DTSTART:20230326T010000
END:DAYLIGHT
BEGIN:STANDARD
TZOFFSETFROM:+0100
TZOFFSETTO:+0000
TZNAME:GMT
DTSTART:20231029T010000
END:STANDARD
BEGIN:DAYLIGHT
TZOFFSETFROM:+0000
TZOFFSETTO:+0100
TZNAME:BST
DTSTART:20240331T010000
END:DAYLIGHT
BEGIN:STANDARD
TZOFFSETFROM:+0100
TZOFFSETTO:+0000
TZNAME:GMT
DTSTART:20241027T010000
END:STANDARD
END:VTIMEZONE
BEGIN:VEVENT
DTSTART;VALUE=DATE:20230514
DTEND;VALUE=DATE:20230515
DTSTAMP:20260423T171327
CREATED:20230107T112849Z
LAST-MODIFIED:20230516T083244Z
UID:4577-1684022400-1684108799@borough19motorclub.org.uk
SUMMARY:Debden Sprint
DESCRIPTION:[vc_row][vc_column][vc_btn title=”Regs” link=”url:https%3A%2F%2Fmtc1.uk%2FEntry%2FDebdenSpringSprint23%2Fimg%2FDebden%2520Sprint%2520May%25202023%2520SRs.pdf”][/vc_column][/vc_row][vc_row][vc_column][vc_btn title=”Enter Online” link=”url:https%3A%2F%2Fmtc1.uk%2FEntry%2FDebdenSpringSprint23%2FEntryList.php”][/vc_column][/vc_row][vc_row][vc_column][vc_btn title=”Results” link=”url:https%3A%2F%2Fborough19motorclub.org.uk%2Fwp-content%2Fuploads%2F2020%2F12%2FResultsCombinedDebSpring23.pdf|title:https%3A%2F%2Fborough19motorclub.org.uk%2Fwp-content%2Fuploads%2F2020%2F12%2FResultsCombinedDebSpring23.pdf”][/vc_column][/vc_row][vc_row][vc_column][/vc_column][/vc_row]
URL:https://borough19motorclub.org.uk/event/debden-sprint-2/
LOCATION:Debden\, Wimbish\, Saffron Walden\, CB10 2UX\, United Kingdom
CATEGORIES:ACSMC,AEMC/ASEMC Key.Guru. Sprint Championship,B19,Sevenoaks Speed League,TWMC All Circuit Sprint Championship
ATTACH;FMTTYPE=image/jpeg:https://borough19motorclub.org.uk/wp-content/uploads/2020/12/Andrew-Faux-Debden-2022.jpg
END:VEVENT
END:VCALENDAR