BEGIN:VCALENDAR
VERSION:2.0
PRODID:-//B19MC - ECPv6.15.17.1//NONSGML v1.0//EN
CALSCALE:GREGORIAN
METHOD:PUBLISH
X-ORIGINAL-URL:https://borough19motorclub.org.uk
X-WR-CALDESC:Events for B19MC
REFRESH-INTERVAL;VALUE=DURATION:PT1H
X-Robots-Tag:noindex
X-PUBLISHED-TTL:PT1H
BEGIN:VTIMEZONE
TZID:Europe/London
BEGIN:DAYLIGHT
TZOFFSETFROM:+0000
TZOFFSETTO:+0100
TZNAME:BST
DTSTART:20220327T010000
END:DAYLIGHT
BEGIN:STANDARD
TZOFFSETFROM:+0100
TZOFFSETTO:+0000
TZNAME:GMT
DTSTART:20221030T010000
END:STANDARD
BEGIN:DAYLIGHT
TZOFFSETFROM:+0000
TZOFFSETTO:+0100
TZNAME:BST
DTSTART:20230326T010000
END:DAYLIGHT
BEGIN:STANDARD
TZOFFSETFROM:+0100
TZOFFSETTO:+0000
TZNAME:GMT
DTSTART:20231029T010000
END:STANDARD
BEGIN:DAYLIGHT
TZOFFSETFROM:+0000
TZOFFSETTO:+0100
TZNAME:BST
DTSTART:20240331T010000
END:DAYLIGHT
BEGIN:STANDARD
TZOFFSETFROM:+0100
TZOFFSETTO:+0000
TZNAME:GMT
DTSTART:20241027T010000
END:STANDARD
END:VTIMEZONE
BEGIN:VEVENT
DTSTART;VALUE=DATE:20230903
DTEND;VALUE=DATE:20230904
DTSTAMP:20260424T100511
CREATED:20230115T152755Z
LAST-MODIFIED:20230907T114155Z
UID:4860-1693699200-1693785599@borough19motorclub.org.uk
SUMMARY:Hethel Sprint
DESCRIPTION:[vc_row][vc_column][vc_btn title=”Regs” link=”url:https%3A%2F%2Fborough19motorclub.org.uk%2Fwp-content%2Fuploads%2F2020%2F12%2FLotus-Hethel-Sprint-Regs-3-Sep-2023.pdf|title:https%3A%2F%2Fborough19motorclub.org.uk%2Fwp-content%2Fuploads%2F2020%2F12%2FLotus-Hethel-Sprint-Regs-3-Sep-2023.pdf”][/vc_column][/vc_row][vc_row][vc_column][vc_btn title=”Enter online – Event now full\, but reserves being accepted.” link=”url:https%3A%2F%2Fborough19.alphatiming.co.uk%2Fregister%2Fevents%2F8159|title:https%3A%2F%2Fborough19.alphatiming.co.uk%2Fregister%2Fevents%2F8159″][/vc_column][/vc_row][vc_row][vc_column][vc_btn title=”Results by class” link=”url:https%3A%2F%2Fborough19motorclub.org.uk%2Fwp-content%2Fuploads%2F2020%2F12%2FHethel-3-Sept-2023-results.pdf|title:https%3A%2F%2Fborough19motorclub.org.uk%2Fwp-content%2Fuploads%2F2020%2F12%2FHethel-3-Sept-2023-results.pdf”][/vc_column][/vc_row][vc_row][vc_column][vc_btn title=”Results rank overall” link=”url:https%3A%2F%2Fborough19motorclub.org.uk%2Fwp-content%2Fuploads%2F2020%2F12%2FHethel_Sept_2023_Overall_Ranking.pdf|title:https%3A%2F%2Fborough19motorclub.org.uk%2Fwp-content%2Fuploads%2F2020%2F12%2FHethel_Sept_2023_Overall_Ranking.pdf”][/vc_column][/vc_row]
URL:https://borough19motorclub.org.uk/event/hethel-sprint-2/
LOCATION:Hethel\, Group Lotus\, Potash Lane\, Hethel\, Norwich\, NR14 8EZ\, United Kingdom
CATEGORIES:AEMC/ASEMC Key.Guru. Sprint Championship,B19,HSA Triple M/Pirelli Speed Championship,SBD Motorsport Sprint Leaders Championship
ATTACH;FMTTYPE=image/jpeg:https://borough19motorclub.org.uk/wp-content/uploads/2020/12/Mark-Chaplin-2022-2.jpg
END:VEVENT
BEGIN:VEVENT
DTSTART;VALUE=DATE:20230917
DTEND;VALUE=DATE:20230918
DTSTAMP:20260424T100511
CREATED:20230116T093447Z
LAST-MODIFIED:20230918T095009Z
UID:4862-1694908800-1694995199@borough19motorclub.org.uk
SUMMARY:North Weald Sprint
DESCRIPTION:[vc_row][vc_column][vc_btn title=”Regs” link=”url:https%3A%2F%2Fborough19motorclub.org.uk%2Fwp-content%2Fuploads%2F2020%2F12%2Fregs2023-v2-1.pdf|title:https%3A%2F%2Fborough19motorclub.org.uk%2Fwp-content%2Fuploads%2F2020%2F12%2Fregs2023-v2-1.pdf”][/vc_column][/vc_row][vc_row][vc_column][vc_btn title=”Enter On Line” link=”url:https%3A%2F%2F6dsa4.r.a.d.sendibm1.com%2Fmk%2Fcl%2Ff%2Fsh%2F6rqJfgq8dIPRQg9A4HRNetA0f9X%2FTiklISJ4ycoP|title:https%3A%2F%2F6dsa4.r.a.d.sendibm1.com%2Fmk%2Fcl%2Ff%2Fsh%2F6rqJfgq8dIPRQg9A4HRNetA0f9X%2FTiklISJ4ycoP”][/vc_column][/vc_row][vc_row][vc_column][vc_btn title=”Results” link=”url:https%3A%2F%2Fborough19motorclub.org.uk%2Fwp-content%2Fuploads%2F2020%2F12%2Fresults-N-W-17-Sept-23.pdf|title:https%3A%2F%2Fborough19motorclub.org.uk%2Fwp-content%2Fuploads%2F2020%2F12%2Fresults-N-W-17-Sept-23.pdf”][/vc_column][/vc_row][vc_row][vc_column][/vc_column][/vc_row]
URL:https://borough19motorclub.org.uk/event/north-weald-sprint-5/
LOCATION:North Weald\, Merlin Way\, North Weald\, Essex\, M16 6HR\, United Kingdom
CATEGORIES:7Oaks Insite Graphics Speed League Championship,ACSMC,AEMC/ASEMC Key.Guru. Sprint Championship,B19
ATTACH;FMTTYPE=image/jpeg:https://borough19motorclub.org.uk/wp-content/uploads/2020/12/Jolyon-Walkling-2022.jpg
END:VEVENT
BEGIN:VEVENT
DTSTART;VALUE=DATE:20230930
DTEND;VALUE=DATE:20231001
DTSTAMP:20260424T100511
CREATED:20230116T113552Z
LAST-MODIFIED:20231004T132737Z
UID:4864-1696032000-1696118399@borough19motorclub.org.uk
SUMMARY:Goodwood
DESCRIPTION:[vc_row][vc_column][vc_btn title=”Results page 1″ link=”url:https%3A%2F%2Fborough19motorclub.org.uk%2Fwp-content%2Fuploads%2F2020%2F12%2FGoodwood-Results-1.pdf|title:https%3A%2F%2Fborough19motorclub.org.uk%2Fwp-content%2Fuploads%2F2020%2F12%2FGoodwood-Results-1.pdf”][/vc_column][/vc_row][vc_row][vc_column][vc_btn title=”Results page 2″ link=”url:https%3A%2F%2Fborough19motorclub.org.uk%2Fwp-content%2Fuploads%2F2020%2F12%2FGoodwood-results-2.pdf|title:https%3A%2F%2Fborough19motorclub.org.uk%2Fwp-content%2Fuploads%2F2020%2F12%2FGoodwood-results-2.pdf”][/vc_column][/vc_row][vc_row][vc_column][vc_btn title=”Results page 3″ link=”url:https%3A%2F%2Fborough19motorclub.org.uk%2Fwp-content%2Fuploads%2F2020%2F12%2FGoodwood-results-3.pdf|title:https%3A%2F%2Fborough19motorclub.org.uk%2Fwp-content%2Fuploads%2F2020%2F12%2FGoodwood-results-3.pdf”][/vc_column][/vc_row]
URL:https://borough19motorclub.org.uk/event/goodwood/
LOCATION:Goodwood\, Motor Circuit\, Chichester\, PO18 0PH\, United Kingdom
CATEGORIES:AEMC/ASEMC Key.Guru. Sprint Championship,B19
ATTACH;FMTTYPE=image/jpeg:https://borough19motorclub.org.uk/wp-content/uploads/2020/12/Goodwood.jpg
END:VEVENT
END:VCALENDAR