BEGIN:VCALENDAR
VERSION:2.0
PRODID:-//B19MC - ECPv6.15.17.1//NONSGML v1.0//EN
CALSCALE:GREGORIAN
METHOD:PUBLISH
X-WR-CALNAME:B19MC
X-ORIGINAL-URL:https://borough19motorclub.org.uk
X-WR-CALDESC:Events for B19MC
REFRESH-INTERVAL;VALUE=DURATION:PT1H
X-Robots-Tag:noindex
X-PUBLISHED-TTL:PT1H
BEGIN:VTIMEZONE
TZID:Europe/London
BEGIN:DAYLIGHT
TZOFFSETFROM:+0000
TZOFFSETTO:+0100
TZNAME:BST
DTSTART:20220327T010000
END:DAYLIGHT
BEGIN:STANDARD
TZOFFSETFROM:+0100
TZOFFSETTO:+0000
TZNAME:GMT
DTSTART:20221030T010000
END:STANDARD
BEGIN:DAYLIGHT
TZOFFSETFROM:+0000
TZOFFSETTO:+0100
TZNAME:BST
DTSTART:20230326T010000
END:DAYLIGHT
BEGIN:STANDARD
TZOFFSETFROM:+0100
TZOFFSETTO:+0000
TZNAME:GMT
DTSTART:20231029T010000
END:STANDARD
BEGIN:DAYLIGHT
TZOFFSETFROM:+0000
TZOFFSETTO:+0100
TZNAME:BST
DTSTART:20240331T010000
END:DAYLIGHT
BEGIN:STANDARD
TZOFFSETFROM:+0100
TZOFFSETTO:+0000
TZNAME:GMT
DTSTART:20241027T010000
END:STANDARD
END:VTIMEZONE
BEGIN:VEVENT
DTSTART;VALUE=DATE:20230715
DTEND;VALUE=DATE:20230716
DTSTAMP:20260424T125625
CREATED:20230111T150919Z
LAST-MODIFIED:20230719T095602Z
UID:4852-1689379200-1689465599@borough19motorclub.org.uk
SUMMARY:RAY HEAL MEMORIAL SPRINT at Lydden
DESCRIPTION:[vc_row][vc_column][vc_btn title=”Regs” link=”url:https%3A%2F%2Fborough19motorclub.org.uk%2Fwp-content%2Fuploads%2F2020%2F12%2FLydden-SRs-July-2023-1.pdf”][/vc_column][/vc_row][vc_row][vc_column][vc_btn title=”Online Entry. Opens at 1800 hr on Sat 4th February” link=”url:https%3A%2F%2Fborough19.alphatiming.co.uk%2Fregister%2Fevents%2F7692″][/vc_column][/vc_row][vc_row][vc_column][vc_btn title=”Results” link=”url:https%3A%2F%2Fborough19motorclub.org.uk%2Fwp-content%2Fuploads%2F2020%2F12%2FLydeen15-july-results.pdf|title:https%3A%2F%2Fborough19motorclub.org.uk%2Fwp-content%2Fuploads%2F2020%2F12%2FLydeen15-july-results.pdf”][/vc_column][/vc_row][vc_row][vc_column][/vc_column][/vc_row][vc_row][vc_column][/vc_column][/vc_row][vc_row][vc_column][/vc_column][/vc_row]
URL:https://borough19motorclub.org.uk/event/ray-heal-memorial-sprint-at-lydden/
LOCATION:Lydden Hill Race Circuit\, Dumbrill Hill\,\, Canterbury\, CT4 6ET\, United Kingdom
CATEGORIES:AEMC/ASEMC Key.Guru. Sprint Championship,B19,HSA Triple M/Pirelli Speed Championship,SBD Motorsport British Sprint Championship
ATTACH;FMTTYPE=image/jpeg:https://borough19motorclub.org.uk/wp-content/uploads/2020/12/Wallis-Lydden-2021.jpg
END:VEVENT
BEGIN:VEVENT
DTSTART;VALUE=DATE:20230716
DTEND;VALUE=DATE:20230717
DTSTAMP:20260424T125625
CREATED:20230112T151126Z
LAST-MODIFIED:20240101T131706Z
UID:4854-1689465600-1689551999@borough19motorclub.org.uk
SUMMARY:North Weald  Sprint
DESCRIPTION:[vc_row][vc_column][vc_btn title=”Regs” link=”url:https%3A%2F%2Fborough19motorclub.org.uk%2Fwp-content%2Fuploads%2F2020%2F12%2Fregs2023-v2.pdf|title:https%3A%2F%2Fborough19motorclub.org.uk%2Fwp-content%2Fuploads%2F2020%2F12%2Fregs2023-v2.pdf”][/vc_column][/vc_row][vc_row][vc_column][vc_btn title=”Enter on line” link=”url:https%3A%2F%2Fmtc1.uk%2FEntry%2FGBMCSummerSprint23%2FEntryForm.php|title:https%3A%2F%2Fmtc1.uk%2FEntry%2FGBMCSummerSprint23%2FEntryForm.php”][/vc_column][/vc_row][vc_row][vc_column][vc_btn title=”Results” link=”url:https%3A%2F%2Fborough19motorclub.org.uk%2Fwp-content%2Fuploads%2F2020%2F12%2FResults.html|title:https%3A%2F%2Fborough19motorclub.org.uk%2Fwp-content%2Fuploads%2F2020%2F12%2FResults.html”][/vc_column][/vc_row]
URL:https://borough19motorclub.org.uk/event/north-weald-sprint-4/
LOCATION:North Weald\, Merlin Way\, North Weald\, Essex\, M16 6HR\, United Kingdom
CATEGORIES:AEMC/ASEMC Key.Guru. Sprint Championship,B19
ATTACH;FMTTYPE=image/jpeg:https://borough19motorclub.org.uk/wp-content/uploads/2021/03/North-Weald.jpg
END:VEVENT
END:VCALENDAR