BEGIN:VCALENDAR
VERSION:2.0
PRODID:-//B19MC - ECPv6.15.17.1//NONSGML v1.0//EN
CALSCALE:GREGORIAN
METHOD:PUBLISH
X-ORIGINAL-URL:https://borough19motorclub.org.uk
X-WR-CALDESC:Events for B19MC
REFRESH-INTERVAL;VALUE=DURATION:PT1H
X-Robots-Tag:noindex
X-PUBLISHED-TTL:PT1H
BEGIN:VTIMEZONE
TZID:Europe/London
BEGIN:DAYLIGHT
TZOFFSETFROM:+0000
TZOFFSETTO:+0100
TZNAME:BST
DTSTART:20230326T010000
END:DAYLIGHT
BEGIN:STANDARD
TZOFFSETFROM:+0100
TZOFFSETTO:+0000
TZNAME:GMT
DTSTART:20231029T010000
END:STANDARD
BEGIN:DAYLIGHT
TZOFFSETFROM:+0000
TZOFFSETTO:+0100
TZNAME:BST
DTSTART:20240331T010000
END:DAYLIGHT
BEGIN:STANDARD
TZOFFSETFROM:+0100
TZOFFSETTO:+0000
TZNAME:GMT
DTSTART:20241027T010000
END:STANDARD
BEGIN:DAYLIGHT
TZOFFSETFROM:+0000
TZOFFSETTO:+0100
TZNAME:BST
DTSTART:20250330T010000
END:DAYLIGHT
BEGIN:STANDARD
TZOFFSETFROM:+0100
TZOFFSETTO:+0000
TZNAME:GMT
DTSTART:20251026T010000
END:STANDARD
END:VTIMEZONE
BEGIN:VEVENT
DTSTART;VALUE=DATE:20240601
DTEND;VALUE=DATE:20240602
DTSTAMP:20260421T143831
CREATED:20240101T144216Z
LAST-MODIFIED:20240605T085841Z
UID:5194-1717200000-1717286399@borough19motorclub.org.uk
SUMMARY:Coventry MotoFest
DESCRIPTION:[vc_row][vc_column][vc_btn title=”Regs” link=”url:https%3A%2F%2Fborough19motorclub.org.uk%2Fwp-content%2Fuploads%2F2020%2F12%2F2024_BARC_Sprint_Supplementary_Regulations_MotoFest_Coventry_01_02-06-2024_PUBLISHED.pdf|title:https%3A%2F%2Fborough19motorclub.org.uk%2Fwp-content%2Fuploads%2F2020%2F12%2F2024_BARC_Sprint_Supplementary_Regulations_MotoFest_Coventry_01_02-06-2024_PUBLISHED.pdf”][/vc_column][/vc_row][vc_row][vc_column][vc_btn title=”Weekend entry” link=”url:https%3A%2F%2Fwww.barc-midlands.co.uk%2Fproduct%2F2024-motofest-coventry-sprint-weekend-entry%2F|title:https%3A%2F%2Fwww.barc-midlands.co.uk%2Fproduct%2F2024-motofest-coventry-sprint-weekend-entry%2F”][/vc_column][/vc_row][vc_row][vc_column][vc_btn title=”Saturday entry” link=”url:https%3A%2F%2Fwww.barc-midlands.co.uk%2Fproduct%2F2024-motofest-coventry-sprint-saturday-entry%2F|title:https%3A%2F%2Fwww.barc-midlands.co.uk%2Fproduct%2F2024-motofest-coventry-sprint-saturday-entry%2F”][/vc_column][/vc_row][vc_row][vc_column][vc_btn title=”Results” link=”url:https%3A%2F%2Fborough19motorclub.org.uk%2Fwp-content%2Fuploads%2F2020%2F12%2Fresults-Coventry-Motofest.pdf|title:https%3A%2F%2Fborough19motorclub.org.uk%2Fwp-content%2Fuploads%2F2020%2F12%2Fresults-Coventry-Motofest.pdf”][/vc_column][/vc_row]
URL:https://borough19motorclub.org.uk/event/coventry-motofest/
LOCATION:Coventry MotoFest\, A4053 Ring Road\,\, Coventry\, CV1 3JZ\, United Kingdom
CATEGORIES:2024 GF&Co B19MC Speed Championship,Key.guru AEMC/ASEMC Speed Championship
ATTACH;FMTTYPE=image/png:https://borough19motorclub.org.uk/wp-content/uploads/2020/12/coventry-mf-circuit.png
END:VEVENT
BEGIN:VEVENT
DTSTART;VALUE=DATE:20240602
DTEND;VALUE=DATE:20240603
DTSTAMP:20260421T143831
CREATED:20240101T144334Z
LAST-MODIFIED:20240605T085635Z
UID:5198-1717286400-1717372799@borough19motorclub.org.uk
SUMMARY:Coventry MotoFest
DESCRIPTION:[vc_row][vc_column][vc_btn title=”Regs” link=”url:https%3A%2F%2Fborough19motorclub.org.uk%2Fwp-content%2Fuploads%2F2020%2F12%2F2024_BARC_Sprint_Supplementary_Regulations_MotoFest_Coventry_01_02-06-2024_PUBLISHED.pdf|title:https%3A%2F%2Fborough19motorclub.org.uk%2Fwp-content%2Fuploads%2F2020%2F12%2F2024_BARC_Sprint_Supplementary_Regulations_MotoFest_Coventry_01_02-06-2024_PUBLISHED.pdf”][/vc_column][/vc_row][vc_row][vc_column][vc_btn title=”Weekend entry” link=”url:https%3A%2F%2Fwww.barc-midlands.co.uk%2Fproduct%2F2024-motofest-coventry-sprint-weekend-entry%2F|title:https%3A%2F%2Fwww.barc-midlands.co.uk%2Fproduct%2F2024-motofest-coventry-sprint-weekend-entry%2F”][/vc_column][/vc_row][vc_row][vc_column][vc_btn title=”Sunday entry” link=”url:https%3A%2F%2Fwww.barc-midlands.co.uk%2Fproduct%2F2024-motofest-coventry-sprint-sunday-entry%2F|title:https%3A%2F%2Fwww.barc-midlands.co.uk%2Fproduct%2F2024-motofest-coventry-sprint-sunday-entry%2F”][/vc_column][/vc_row][vc_row][vc_column][vc_btn title=”Results” link=”url:https%3A%2F%2Fborough19motorclub.org.uk%2Fwp-content%2Fuploads%2F2020%2F12%2Fresults-Coventry-Motofest.pdf|title:https%3A%2F%2Fborough19motorclub.org.uk%2Fwp-content%2Fuploads%2F2020%2F12%2Fresults-Coventry-Motofest.pdf”][/vc_column][/vc_row]
URL:https://borough19motorclub.org.uk/event/coventry-motofest-2/
LOCATION:Coventry MotoFest\, A4053 Ring Road\,\, Coventry\, CV1 3JZ\, United Kingdom
CATEGORIES:2024 GF&Co B19MC Speed Championship,Key.guru AEMC/ASEMC Speed Championship
ATTACH;FMTTYPE=image/png:https://borough19motorclub.org.uk/wp-content/uploads/2020/12/coventry-mf-circuit.png
END:VEVENT
BEGIN:VEVENT
DTSTART;VALUE=DATE:20240608
DTEND;VALUE=DATE:20240609
DTSTAMP:20260421T143831
CREATED:20240101T144741Z
LAST-MODIFIED:20240609T122152Z
UID:5200-1717804800-1717891199@borough19motorclub.org.uk
SUMMARY:Abingdon CARnival
DESCRIPTION:[vc_row][vc_column][vc_btn title=”Regs” link=”url:https%3A%2F%2Fborough19motorclub.org.uk%2Fwp-content%2Fuploads%2F2020%2F12%2F2024-AMC-Sprint-Regs.pdf|title:https%3A%2F%2Fborough19motorclub.org.uk%2Fwp-content%2Fuploads%2F2020%2F12%2F2024-AMC-Sprint-Regs.pdf”][/vc_column][/vc_row][vc_row][vc_column][vc_btn title=”Entries open Noon 27th March” link=”url:https%3A%2F%2Fabingdoncarnival.com%2Fonline-sprint-entry-form%2F|title:https%3A%2F%2Fabingdoncarnival.com%2Fonline-sprint-entry-form%2F”][/vc_column][/vc_row][vc_row][vc_column][vc_btn title=”Results overall” link=”url:https%3A%2F%2Fborough19motorclub.org.uk%2Fwp-content%2Fuploads%2F2020%2F12%2F240608-Abingdon-Event-rank.pdf|title:https%3A%2F%2Fborough19motorclub.org.uk%2Fwp-content%2Fuploads%2F2020%2F12%2F240608-Abingdon-Event-rank.pdf”][/vc_column][/vc_row][vc_row][vc_column][vc_btn title=”Results by Class” link=”url:https%3A%2F%2Fborough19motorclub.org.uk%2Fwp-content%2Fuploads%2F2020%2F12%2F240608-Abingdon-LCS-Analysis-by-Class.pdf|title:https%3A%2F%2Fborough19motorclub.org.uk%2Fwp-content%2Fuploads%2F2020%2F12%2F240608-Abingdon-LCS-Analysis-by-Class.pdf”][/vc_column][/vc_row]
URL:https://borough19motorclub.org.uk/event/abingdon-carnival/
LOCATION:Abingdon\, Abingdon Airfield\, Honeybotton Lane\, Dry Sandford\,\, Oxfordshire\, OX13 6BX\, United Kingdom
CATEGORIES:2024 GF&Co B19MC Speed Championship,ACSMC,Key.guru AEMC/ASEMC Speed Championship
ATTACH;FMTTYPE=image/jpeg:https://borough19motorclub.org.uk/wp-content/uploads/2020/12/Jay-Elliott-NW-2022.jpg
END:VEVENT
BEGIN:VEVENT
DTSTART;VALUE=DATE:20240616
DTEND;VALUE=DATE:20240617
DTSTAMP:20260421T143831
CREATED:20240101T145001Z
LAST-MODIFIED:20240617T135024Z
UID:5203-1718496000-1718582399@borough19motorclub.org.uk
SUMMARY:North Weald Sprint
DESCRIPTION:[vc_row][vc_column][vc_btn title=”Regs” link=”url:https%3A%2F%2Fborough19motorclub.org.uk%2Fwp-content%2Fuploads%2F2020%2F12%2FNW-Supplementry-Regs-2024-v2.pdf|title:https%3A%2F%2Fborough19motorclub.org.uk%2Fwp-content%2Fuploads%2F2020%2F12%2FNW-Supplementry-Regs-2024-v2.pdf”][/vc_column][/vc_row][vc_row][vc_column][vc_btn title=”Enter On Line” link=”url:https%3A%2F%2Fgmail.us17.list-manage.com%2Ftrack%2Fclick%3Fu%3Db11530770446a3dbeb2c96e2f%26id%3D47e5c9f60d%26e%3D496eb3824c|title:https%3A%2F%2Fgmail.us17.list-manage.com%2Ftrack%2Fclick%3Fu%3Db11530770446a3dbeb2c96e2f%26id%3D47e5c9f60d%26e%3D496eb3824c”][/vc_column][/vc_row][vc_row][vc_column][vc_btn title=”Results” link=”url:https%3A%2F%2Fborough19motorclub.org.uk%2Ffullresultsnweald16jun24%2F|title:https%3A%2F%2Fborough19motorclub.org.uk%2Ffullresultsnweald16jun24%2F”][/vc_column][/vc_row][vc_row][vc_column][/vc_column][/vc_row]
URL:https://borough19motorclub.org.uk/event/north-weald-sprint-2/
LOCATION:North Weald\, Merlin Way\, North Weald\, Essex\, M16 6HR\, United Kingdom
CATEGORIES:2024 GF&Co B19MC Speed Championship,7Oaks Insite Graphics Speed League Championship,ACSMC,Key.guru AEMC/ASEMC Speed Championship
ATTACH;FMTTYPE=image/jpeg:https://borough19motorclub.org.uk/wp-content/uploads/2020/12/Jolyon-Walkling-2022.jpg
END:VEVENT
BEGIN:VEVENT
DTSTART;VALUE=DATE:20240623
DTEND;VALUE=DATE:20240624
DTSTAMP:20260421T143831
CREATED:20240102T112657Z
LAST-MODIFIED:20240625T144214Z
UID:5207-1719100800-1719187199@borough19motorclub.org.uk
SUMMARY:Mallory Park
DESCRIPTION:[vc_row][vc_column][vc_btn title=”Regs” link=”url:https%3A%2F%2Fborough19motorclub.org.uk%2Fwp-content%2Fuploads%2F2020%2F12%2Fmallory-Park-Sprint-Regs-june-23-06-24.pdf|title:https%3A%2F%2Fborough19motorclub.org.uk%2Fwp-content%2Fuploads%2F2020%2F12%2Fmallory-Park-Sprint-Regs-june-23-06-24.pdf”][/vc_column][/vc_row][vc_row][vc_column][vc_btn title=”Enter Online” link=”url:https%3A%2F%2Fsandhmc.co.uk%2Fentry-form%2F|title:https%3A%2F%2Fsandhmc.co.uk%2Fentry-form%2F”][/vc_column][/vc_row][vc_row][vc_column][vc_btn title=”Results” link=”url:https%3A%2F%2Fborough19motorclub.org.uk%2Fwp-content%2Fuploads%2F2020%2F12%2FMallory-Park-June-results.pdf|title:https%3A%2F%2Fborough19motorclub.org.uk%2Fwp-content%2Fuploads%2F2020%2F12%2FMallory-Park-June-results.pdf”][/vc_column][/vc_row]
URL:https://borough19motorclub.org.uk/event/malory-park/
LOCATION:Mallory Park\, Mallory Park Circuit\, Church Road\,\, Kirkby\, Leicestershire\, LE9 7QE\, United Kingdom
CATEGORIES:2024 GF&Co B19MC Speed Championship,BARC Midlands Speed Championship,HSA Speed Championship,Insite Graphics Sevenoaks & DMC Speed League,Key.guru AEMC/ASEMC Speed Championship,Longton and District Motor Club Speed Championship,Morgan Sports Car Club,Nottingham Sports Car Club Speed,Sprint Leaders Championship,TWMC All Circuit Sprint Championship,Woodford Trailers British Sprint Championship
ATTACH;FMTTYPE=image/jpeg:https://borough19motorclub.org.uk/wp-content/uploads/2021/03/Curborough.jpg
END:VEVENT
END:VCALENDAR