BEGIN:VCALENDAR
VERSION:2.0
PRODID:-//B19MC - ECPv6.15.17.1//NONSGML v1.0//EN
CALSCALE:GREGORIAN
METHOD:PUBLISH
X-ORIGINAL-URL:https://borough19motorclub.org.uk
X-WR-CALDESC:Events for B19MC
REFRESH-INTERVAL;VALUE=DURATION:PT1H
X-Robots-Tag:noindex
X-PUBLISHED-TTL:PT1H
BEGIN:VTIMEZONE
TZID:Europe/London
BEGIN:DAYLIGHT
TZOFFSETFROM:+0000
TZOFFSETTO:+0100
TZNAME:BST
DTSTART:20230326T010000
END:DAYLIGHT
BEGIN:STANDARD
TZOFFSETFROM:+0100
TZOFFSETTO:+0000
TZNAME:GMT
DTSTART:20231029T010000
END:STANDARD
BEGIN:DAYLIGHT
TZOFFSETFROM:+0000
TZOFFSETTO:+0100
TZNAME:BST
DTSTART:20240331T010000
END:DAYLIGHT
BEGIN:STANDARD
TZOFFSETFROM:+0100
TZOFFSETTO:+0000
TZNAME:GMT
DTSTART:20241027T010000
END:STANDARD
BEGIN:DAYLIGHT
TZOFFSETFROM:+0000
TZOFFSETTO:+0100
TZNAME:BST
DTSTART:20250330T010000
END:DAYLIGHT
BEGIN:STANDARD
TZOFFSETFROM:+0100
TZOFFSETTO:+0000
TZNAME:GMT
DTSTART:20251026T010000
END:STANDARD
END:VTIMEZONE
BEGIN:VEVENT
DTSTART;VALUE=DATE:20240512
DTEND;VALUE=DATE:20240513
DTSTAMP:20260421T162429
CREATED:20240101T144051Z
LAST-MODIFIED:20240515T101119Z
UID:5191-1715472000-1715558399@borough19motorclub.org.uk
SUMMARY:Debden Sprint
DESCRIPTION:[vc_row][vc_column][vc_btn title=”Regs” link=”url:https%3A%2F%2Fmtc1.uk%2FEntry%2FDebdenSpringSprint24%2Fimg%2FDebden%2520Sprint%2520May%25202024%2520draft%2520SRs.pdf|title:https%3A%2F%2Fmtc1.uk%2FEntry%2FDebdenSpringSprint24%2Fimg%2FDebden%2520Sprint%2520May%25202024%2520draft%2520SRs.pdf”][/vc_column][/vc_row][vc_row][vc_column][vc_btn title=”Enter on line” link=”url:https%3A%2F%2Fmtc1.uk%2FEntry%2FDebdenSpringSprint24%2FEntryForm.php|title:https%3A%2F%2Fmtc1.uk%2FEntry%2FDebdenSpringSprint24%2FEntryForm.php”][/vc_column][/vc_row][vc_row][vc_column][vc_btn title=”Results” link=”url:https%3A%2F%2Fborough19motorclub.org.uk%2Fwp-content%2Fuploads%2F2020%2F12%2FResultsDebden12May24.pdf|title:https%3A%2F%2Fborough19motorclub.org.uk%2Fwp-content%2Fuploads%2F2020%2F12%2FResultsDebden12May24.pdf”][/vc_column][/vc_row][vc_row][vc_column][/vc_column][/vc_row]
URL:https://borough19motorclub.org.uk/event/debden-sprint/
LOCATION:Debden\, Wimbish\, Saffron Walden\, CB10 2UX\, United Kingdom
CATEGORIES:2024 GF&Co B19MC Speed Championship,B19,Key.guru AEMC/ASEMC Speed Championship
ATTACH;FMTTYPE=image/jpeg:https://borough19motorclub.org.uk/wp-content/uploads/2020/12/Andrew-Faux-Debden-2022.jpg
END:VEVENT
END:VCALENDAR